BEGIN:VCALENDAR
VERSION:2.0
PRODID:-//https://www.eventsboquete.org///NONSGML kigkonsult.se iCalcreator 2.10.15//
METHOD:PUBLISH
BEGIN:VEVENT
UID:20260421T083431UTC-1881sPku9F@https://www.eventsboquete.org/
DTSTAMP:20260421T083431Z
DESCRIPTION:To see the upcoming chats or to register for them go to Reserva
 tions https://www.eventsboquete.org/boquete-events-calendar/event/1632-com
 munity-chats
DTSTART:20260427T160000Z
DTEND:20260427T173000Z
LOCATION:Boquete Library (Ave Central\, Bajo Boquete)
SUMMARY:Community Chats
URL:https://www.eventsboquete.org/boquete-events-calendar/event/1632-commun
 ity-chats
END:VEVENT
END:VCALENDAR
